BEGIN:VCALENDAR
VERSION:2.0
PRODID:-//Colégio Santa Rita | Barreiro | Belo Horizonte - ECPv6.15.20//NONSGML v1.0//EN
CALSCALE:GREGORIAN
METHOD:PUBLISH
X-WR-CALNAME:Colégio Santa Rita | Barreiro | Belo Horizonte
X-ORIGINAL-URL:https://santarita.agostinianas.com.br
X-WR-CALDESC:Eventos para Colégio Santa Rita | Barreiro | Belo Horizonte
REFRESH-INTERVAL;VALUE=DURATION:PT1H
X-Robots-Tag:noindex
X-PUBLISHED-TTL:PT1H
BEGIN:VTIMEZONE
TZID:America/Sao_Paulo
BEGIN:STANDARD
TZOFFSETFROM:-0300
TZOFFSETTO:-0300
TZNAME:-03
DTSTART:20240101T000000
END:STANDARD
END:VTIMEZONE
BEGIN:VEVENT
DTSTART;VALUE=DATE:20260313
DTEND;VALUE=DATE:20260314
DTSTAMP:20260421T183642
CREATED:20251217T181826Z
LAST-MODIFIED:20251217T181826Z
UID:28156-1773360000-1773446399@santarita.agostinianas.com.br
SUMMARY:Momento Forte da CF 2026 - Ed. Infantil e 1º ano
DESCRIPTION:
URL:https://santarita.agostinianas.com.br/evento/momento-forte-da-cf-2026-ed-infantil-e-1o-ano/
END:VEVENT
BEGIN:VEVENT
DTSTART;VALUE=DATE:20260306
DTEND;VALUE=DATE:20260307
DTSTAMP:20260421T183642
CREATED:20251217T181757Z
LAST-MODIFIED:20251217T181757Z
UID:28154-1772755200-1772841599@santarita.agostinianas.com.br
SUMMARY:Momento Forte da CF 2026 - Ens. Fund. e Ens. Médio
DESCRIPTION:
URL:https://santarita.agostinianas.com.br/evento/momento-forte-da-cf-2026-ens-fund-e-ens-medio/
END:VEVENT
BEGIN:VEVENT
DTSTART;TZID=America/Sao_Paulo:20260226T183000
DTEND;TZID=America/Sao_Paulo:20260226T200000
DTSTAMP:20260421T183642
CREATED:20251217T181638Z
LAST-MODIFIED:20260213T140524Z
UID:28150-1772130600-1772136000@santarita.agostinianas.com.br
SUMMARY:Reunião de Pais - 1º período ao 5º ano
DESCRIPTION:
URL:https://santarita.agostinianas.com.br/evento/reuniao-de-pais-1o-periodo-ao-5o-ano/
END:VEVENT
BEGIN:VEVENT
DTSTART;TZID=America/Sao_Paulo:20260224T190000
DTEND;TZID=America/Sao_Paulo:20260224T200000
DTSTAMP:20260421T183642
CREATED:20251217T181607Z
LAST-MODIFIED:20260213T140350Z
UID:28148-1771959600-1771963200@santarita.agostinianas.com.br
SUMMARY:Reunião de Pais - Ens. Fund. II e Ens. Médio
DESCRIPTION:
URL:https://santarita.agostinianas.com.br/evento/reuniao-de-pais-ens-fund-ii-e-ens-medio/
END:VEVENT
BEGIN:VEVENT
DTSTART;VALUE=DATE:20260218
DTEND;VALUE=DATE:20260219
DTSTAMP:20260421T183642
CREATED:20251217T181532Z
LAST-MODIFIED:20251217T181532Z
UID:28146-1771372800-1771459199@santarita.agostinianas.com.br
SUMMARY:Quarta-feira de Cinzas - Feriado
DESCRIPTION:
URL:https://santarita.agostinianas.com.br/evento/quarta-feira-de-cinzas-feriado/
END:VEVENT
BEGIN:VEVENT
DTSTART;VALUE=DATE:20260216
DTEND;VALUE=DATE:20260218
DTSTAMP:20260421T183642
CREATED:20251217T181503Z
LAST-MODIFIED:20251217T181503Z
UID:28144-1771200000-1771372799@santarita.agostinianas.com.br
SUMMARY:Carnaval - Feriado
DESCRIPTION:
URL:https://santarita.agostinianas.com.br/evento/carnaval-feriado/
END:VEVENT
BEGIN:VEVENT
DTSTART;VALUE=DATE:20260204
DTEND;VALUE=DATE:20260205
DTSTAMP:20260421T183642
CREATED:20251217T181257Z
LAST-MODIFIED:20251217T181257Z
UID:28140-1770163200-1770249599@santarita.agostinianas.com.br
SUMMARY:Início do Ano Letivo - Maternal I\, II e III
DESCRIPTION:
URL:https://santarita.agostinianas.com.br/evento/inicio-do-ano-letivo-maternal-i-ii-e-iii/
END:VEVENT
BEGIN:VEVENT
DTSTART;TZID=America/Sao_Paulo:20260203T160000
DTEND;TZID=America/Sao_Paulo:20260203T173000
DTSTAMP:20260421T183642
CREATED:20251217T181045Z
LAST-MODIFIED:20251217T181045Z
UID:28136-1770134400-1770139800@santarita.agostinianas.com.br
SUMMARY:Reunião de Pais - Maternal I\, II\, III
DESCRIPTION:
URL:https://santarita.agostinianas.com.br/evento/reuniao-de-pais-maternal-i-ii-iii/
END:VEVENT
BEGIN:VEVENT
DTSTART;VALUE=DATE:20260203
DTEND;VALUE=DATE:20260204
DTSTAMP:20260421T183642
CREATED:20251217T181210Z
LAST-MODIFIED:20251217T181210Z
UID:28138-1770076800-1770163199@santarita.agostinianas.com.br
SUMMARY:Início do Ano Letivo - 1º período à 3ª série
DESCRIPTION:
URL:https://santarita.agostinianas.com.br/evento/inicio-do-ano-letivo-1o-periodo-a-3a-serie/
END:VEVENT
BEGIN:VEVENT
DTSTART;VALUE=DATE:20251215
DTEND;VALUE=DATE:20260201
DTSTAMP:20260421T183642
CREATED:20241209T141352Z
LAST-MODIFIED:20241209T141352Z
UID:25789-1765756800-1769903999@santarita.agostinianas.com.br
SUMMARY:Férias escolares
DESCRIPTION:
URL:https://santarita.agostinianas.com.br/evento/ferias-escolares/
END:VEVENT
END:VCALENDAR